Workbook

Sheet Общий заказ
A2: Производитель книг "Театр теней" ИП Андреева Н.А ИНН 245208311608 ОГРНИП 317774600552198
A8: Итоговый заказ | B8: Количество | C8: Сумма
A9: Книги | B9: ='Книги'!J157 -> 0 | C9: ='Книги'!K157 -> 0
A10: Персонажи | B10: ='Наборы Персонажей'!J172 -> 0 | C10: ='Наборы Персонажей'!K172 -> 0
A11: Magic Box | B11: ='Magic Box'!J165 -> 0 | C11: ='Magic Box'!K165 -> 0
A12: Итого | B12: =SUM(B9:B11) -> 0 | C12: =SUM(C9:C11) -> 0
A13: В т.ч. НДС 5% | C13: ='Книги'!L4+'Наборы Персонажей'!M4+'Magic Box'!L4 -> 0

Sheet Книги
A2: Производитель книг "Театр теней" ИП Андреева Н.А ИНН 245208311608 ОГРНИП 317774600552198 | E2: Скидка при объеме 50 штук — 10% 100 штук - 15% 500 штук - 20% | J2: На сумму без скидки | L2: =SUM(K10:K156) -> 0
H3: На сумму с учетом скидки за объем | K3: =IFS(J157>499,"20%",J157>99,"15%",J157>49,"10%",1,"0%") -> 0% | L3: =K157 -> 0
K4: В том числе НДС 5% | L4: =L2/1.05*0.05 -> 0
C8: Наименование продукции | D8: Содержимое | E8: Размер книги | F8: Вес | G8: Цена без НДС | H8: Сумма НДС 5% | I8: Цена с НДС 5% | J8: Заказ | K8: Итого
C10: Щелкунчик | D10: Волшебные книги SHADOW PLAY в новом формате, адаптированный текст сказки и простая инструкция по использованию | E10: 23,5 х 26 х 1,5 см. | F10: 370 гр. | G10: =I10-H10 -> 1133.3333 | H10: =I10/1.05*0.05 -> 56.666667 | I10: 1190 | K10: =J10*I10 -> 0
C17: Золушка | D17: Волшебные книги SHADOW PLAY в новом формате, адаптированный текст сказки и простая инструкция по использованию | E17: 23,5 х 26 х 1,5 см. | F17: 370 гр. | G17: =I17-H17 -> 1133.3333 | H17: =I17/1.05*0.05 -> 56.666667 | I17: 1190 | K17: =J17*I17 -> 0
C24: Волшебная лампа Аладдина | D24: Волшебные книги SHADOW PLAY в новом формате, адаптированный текст сказки и простая инструкция по использованию | E24: 23,5 х 26 х 1,5 см. | F24: 370 гр. | G24: =I24-H24 -> 1133.3333 | H24: =I24/1.05*0.05 -> 56.666667 | I24: 1190 | K24: =J24*I24 -> 0
C31: Дюймовочка | D31: Волшебные книги SHADOW PLAY в новом формате, адаптированный текст сказки и простая инструкция по использованию | E31: 23,5 х 26 х 1,5 см. | F31: 370 гр. | G31: =I31-H31 -> 1133.3333 | H31: =I31/1.05*0.05 -> 56.666667 | I31: 1190 | K31: =J31*I31 -> 0
C38: Бременские Музыканты | D38: Волшебные книги SHADOW PLAY в новом формате, адаптированный текст сказки и простая инструкция по использованию | E38: 23,5 х 26 х 1,5 см. | F38: 370 гр. | G38: =I38-H38 -> 1133.3333 | H38: =I38/1.05*0.05 -> 56.666667 | I38: 1190 | K38: =J38*I38 -> 0
C45: Кот в сапогах | D45: Волшебные книги SHADOW PLAY в новом формате, адаптированный текст сказки и простая инструкция по использованию | E45: 23,5 х 26 х 1,5 см. | F45: 370 гр. | G45: =I45-H45 -> 1133.3333 | H45: =I45/1.05*0.05 -> 56.666667 | I45: 1190 | K45: =J45*I45 -> 0
C52: Снежная королева | D52: Волшебные книги SHADOW PLAY в новом формате, адаптированный текст сказки и простая инструкция по использованию | E52: 23,5 х 26 х 1,5 см. | F52: 370 гр. | G52: =I52-H52 -> 1133.3333 | H52: =I52/1.05*0.05 -> 56.666667 | I52: 1190 | K52: =J52*I52 -> 0
C59: Золотой ключик | D59: Волшебные книги SHADOW PLAY в новом формате, адаптированный текст сказки и простая инструкция по использованию | E59: 23,5 х 26 х 1,5 см. | F59: 370 гр. | G59: =I59-H59 -> 1133.3333 | H59: =I59/1.05*0.05 -> 56.666667 | I59: 1190 | K59: =J59*I59 -> 0
C66: Маугли | D66: Волшебные книги SHADOW PLAY в новом формате, адаптированный текст сказки и простая инструкция по использованию | E66: 23,5 х 26 х 1,5 см. | F66: 370 гр. | G66: =I66-H66 -> 1133.3333 | H66: =I66/1.05*0.05 -> 56.666667 | I66: 1190 | K66: =J66*I66 -> 0
C73: Маленький принц | D73: Волшебные книги SHADOW PLAY в новом формате, адаптированный текст сказки и простая инструкция по использованию | E73: 23,5 х 26 х 1,5 см. | F73: 370 гр. | G73: =I73-H73 -> 1133.3333 | H73: =I73/1.05*0.05 -> 56.666667 | I73: 1190 | K73: =J73*I73 -> 0
C80: История на Хеллоуин | D80: Волшебные книги SHADOW PLAY в новом формате, адаптированный текст сказки и простая инструкция по использованию | E80: 23,5 х 26 х 1,5 см. | F80: 370 гр. | G80: =I80-H80 -> 1133.3333 | H80: =I80/1.05*0.05 -> 56.666667 | I80: 1190 | K80: =J80*I80 -> 0
C87: Волшебник страны Оз | D87: Волшебные книги SHADOW PLAY в новом формате, адаптированный текст сказки и простая инструкция по использованию | E87: 23,5 х 26 х 1,5 см. | F87: 370 гр. | G87: =I87-H87 -> 1133.3333 | H87: =I87/1.05*0.05 -> 56.666667 | I87: 1190 | K87: =J87*I87 -> 0
... C136: Гадкий Утёнок | D136: Волшебные книги SHADOW PLAY в новом формате, адаптированный текст сказки и простая инструкция по использованию | E136: 23,5 х 26 х 1,5 см. | F136: 370 гр. | G136: =I136-H136 -> 1133.3333 | H136: =I136/1.05*0.05 -> 56.666667 | I136: 1190 | K136: =J136*I136 -> 0
C143: Красавица и Чудовище | D143: Волшебные книги SHADOW PLAY в новом формате, адаптированный текст сказки и простая инструкция по использованию | E143: 23,5 х 26 х 1,5 см. | F143: 370 гр. | G143: =I150-H150 -> 1133.3333 | H143: =I150/1.05*0.05 -> 56.666667 | I143: 1190 | K143: =J143*I143 -> 0
C150: Зимние сказки | D150: Волшебные книги SHADOW PLAY в новом формате, адаптированный текст сказки и простая инструкция по использованию | E150: 23,5 х 26 х 1,5 см. | F150: 370 гр. | G150: =I150-H150 -> 1133.3333 | H150: =I150/1.05*0.05 -> 56.666667 | I150: 1190 | K150: =J150*I150 -> 0
J157: =SUM(J10:J156) -> 0 | K157: =IFS(J157>499,L2*0.8,J157>99,L2*0.85,J157>49,L2*0.9,1,L2) -> 0

Sheet Наборы Персонажей
A2: Производитель книг "Театр теней" ИП Андреева Н.А ИНН 245208311608 ОГРНИП 317774600552198 | E2: Скидка при объеме 50 штук — 10% 100 штук - 15% 500 штук - 20% | K2: На сумму без скидки | M2: =SUM(K10:K171) -> 0
I3: На сумму с учетом скидки за объем | L3: =IFS(J172>499,"20%",J172>99,"15%",J172>49,"10%",1,"0%") -> 0% | M3: =K172 -> 0
L4: В том числе НДС 5% | M4: =M2/1.05*0.05 -> 0
C8: Наименование продукции | D8: Содержимое | E8: Размер книги | F8: Вес | G8: Цена без НДС | H8: Сумма НДС 5% | I8: Цена с НДС 5% | J8: Заказ | K8: Итого
C11: Щелкунчик | D11: Набор из 8 резных картонных персонажей на изящных деревянных палочках, а так же подставка для смартфона. | E11: 14,5 х 23,5 х 1,5 см. | F11: 110 гр. | G11: =I11-H11 -> 961.90476 | H11: =I11/1.05*0.05 -> 48.095238 | I11: 1010 | K11: =J11*I11 -> 0
C18: Золушка | D18: Набор из 8 резных картонных персонажей на изящных деревянных палочках, а так же подставка для смартфона. | E18: 14,5 х 23,5 х 1,5 см. | F18: 110 гр. | G18: =I18-H18 -> 961.90476 | H18: =I18/1.05*0.05 -> 48.095238 | I18: 1010 | K18: =J18*I18 -> 0
C25: Волшебная лампа Аладдина | D25: Набор из 8 резных картонных персонажей на изящных деревянных палочках, а так же подставка для смартфона. | E25: 14,5 х 23,5 х 1,5 см. | F25: 110 гр. | G25: =I25-H25 -> 961.90476 | H25: =I25/1.05*0.05 -> 48.095238 | I25: 1010 | K25: =J25*I25 -> 0
C32: Дюймовочка | D32: Набор из 8 резных картонных персонажей на изящных деревянных палочках, а так же подставка для смартфона. | E32: 14,5 х 23,5 х 1,5 см. | F32: 110 гр. | G32: =I32-H32 -> 961.90476 | H32: =I32/1.05*0.05 -> 48.095238 | I32: 1010 | K32: =J32*I32 -> 0
C39: Бременские Музыканты | D39: Набор из 8 резных картонных персонажей на изящных деревянных палочках, а так же подставка для смартфона. | E39: 14,5 х 23,5 х 1,5 см. | F39: 110 гр. | G39: =I39-H39 -> 961.90476 | H39: =I39/1.05*0.05 -> 48.095238 | I39: 1010 | K39: =J39*I39 -> 0
C46: Кот в сапогах | D46: Набор из 8 резных картонных персонажей на изящных деревянных палочках, а так же подставка для смартфона. | E46: 14,5 х 23,5 х 1,5 см. | F46: 110 гр. | G46: =I46-H46 -> 961.90476 | H46: =I46/1.05*0.05 -> 48.095238 | I46: 1010 | K46: =J46*I46 -> 0
C53: Снежная королева | D53: Набор из 8 резных картонных персонажей на изящных деревянных палочках, а так же подставка для смартфона. | E53: 14,5 х 23,5 х 1,5 см. | F53: 110 гр. | G53: =I53-H53 -> 961.90476 | H53: =I53/1.05*0.05 -> 48.095238 | I53: 1010 | K53: =J53*I53 -> 0
C60: Золотой ключик | D60: Набор из 8 резных картонных персонажей на изящных деревянных палочках, а так же подставка для смартфона. | E60: 14,5 х 23,5 х 1,5 см. | F60: 110 гр. | G60: =I60-H60 -> 961.90476 | H60: =I60/1.05*0.05 -> 48.095238 | I60: 1010 | K60: =J60*I60 -> 0
C67: Маугли | D67: Набор из 8 резных картонных персонажей на изящных деревянных палочках, а так же подставка для смартфона. | E67: 14,5 х 23,5 х 1,5 см. | F67: 110 гр. | G67: =I67-H67 -> 961.90476 | H67: =I67/1.05*0.05 -> 48.095238 | I67: 1010 | K67: =J67*I67 -> 0
C74: Маленький принц | D74: Набор из 8 резных картонных персонажей на изящных деревянных палочках, а так же подставка для смартфона. | E74: 14,5 х 23,5 х 1,5 см. | F74: 110 гр. | G74: =I74-H74 -> 961.90476 | H74: =I74/1.05*0.05 -> 48.095238 | I74: 1010 | K74: =J74*I74 -> 0
C81: История на Хеллоуин | D81: Набор из 8 резных картонных персонажей на изящных деревянных палочках, а так же подставка для смартфона. | E81: 14,5 х 23,5 х 1,5 см. | F81: 110 гр. | G81: =I81-H81 -> 961.90476 | H81: =I81/1.05*0.05 -> 48.095238 | I81: 1010 | K81: =J81*I81 -> 0
C88: Сказка о царе Салтане | D88: Набор из 8 резных картонных персонажей на изящных деревянных палочках, а так же подставка для смартфона. | E88: 14,5 х 23,5 х 1,5 см. | F88: 110 гр. | G88: =I88-H88 -> 961.90476 | H88: =I88/1.05*0.05 -> 48.095238 | I88: 1010 | K88: =J88*I88 -> 0
... C165: Зимние сказки | D165: Набор из 8 резных картонных персонажей на изящных деревянных палочках, а так же подставка для смартфона. | E165: 14,5 х 23,5 х 1,5 см. | F165: 110 гр. | G165: =I165-H165 -> 961.90476 | H165: =I165/1.05*0.05 -> 48.095238 | I165: 1010 | K165: =J165*I165 -> 0
J172: =SUM(J11:J171) -> 0 | K172: =IFS(J172>499,M2*0.8,J172>99,M2*0.85,J172>49,M2*0.9,1,M2) -> 0

Sheet Magic Box
A2: Производитель книг "Театр теней" ИП Андреева Н.А ИНН 245208311608 ОГРНИП 317774600552198 | E2: Скидка при объеме 50 штук — 10% 100 штук - 15% 500 штук - 20% | J2: На сумму без скидки | L2: =SUM(K10:K164) -> 0
H3: На сумму с учетом скидки за объем | K3: =IFS(J165>499,"20%",J165>99,"15%",J165>49,"10%",1,"0%") -> 0% | L3: =K165 -> 0
J4: В том числе НДС 5% | L4: =L2/1.05*0.05 -> 0
C8: Наименование продукции | D8: Содержимое | E8: Размер книги | F8: Вес | G8: Цена без НДС | H8: Сумма НДС 5% | I8: Цена с НДС 5% | J8: Заказ | K8: Итого
C11: Щелкунчик | D11: Подарочный набор: Книга + набор персонажей + специальный фонарик для теней + подарочная коробка | E11: 28х25,5х3,5 см | F11: 900 гр. | G11: =I11-H11 -> 2885.7143 | H11: =I11/1.05*0.05 -> 144.28571 | I11: 3030 | K11: =J11*I11 -> 0
C18: Золушка | D18: Подарочный набор: Книга + набор персонажей + специальный фонарик для теней + подарочная коробка | E18: 28х25,5х3,5 см | F18: 900 гр. | G18: =I18-H18 -> 2885.7143 | H18: =I18/1.05*0.05 -> 144.28571 | I18: 3030 | K18: =J18*I18 -> 0
C25: Волшебная лампа Аладдина | D25: Подарочный набор: Книга + набор персонажей + специальный фонарик для теней + подарочная коробка | E25: 28х25,5х3,5 см | F25: 900 гр. | G25: =I25-H25 -> 2885.7143 | H25: =I25/1.05*0.05 -> 144.28571 | I25: 3030 | K25: =J25*I25 -> 0
C32: Дюймовочка | D32: Подарочный набор: Книга + набор персонажей + специальный фонарик для теней + подарочная коробка | E32: 28х25,5х3,5 см | F32: 900 гр. | G32: =I32-H32 -> 2885.7143 | H32: =I32/1.05*0.05 -> 144.28571 | I32: 3030 | K32: =J32*I32 -> 0
C39: Бременские Музыканты | D39: Подарочный набор: Книга + набор персонажей + специальный фонарик для теней + подарочная коробка | E39: 28х25,5х3,5 см | F39: 900 гр. | G39: =I39-H39 -> 2885.7143 | H39: =I39/1.05*0.05 -> 144.28571 | I39: 3030 | K39: =J39*I39 -> 0
C46: Кот в сапогах | D46: Подарочный набор: Книга + набор персонажей + специальный фонарик для теней + подарочная коробка | E46: 28х25,5х3,5 см | F46: 900 гр. | G46: =I46-H46 -> 2885.7143 | H46: =I46/1.05*0.05 -> 144.28571 | I46: 3030 | K46: =J46*I46 -> 0
C53: Снежная королева | D53: Подарочный набор: Книга + набор персонажей + специальный фонарик для теней + подарочная коробка | E53: 28х25,5х3,5 см | F53: 900 гр. | G53: =I53-H53 -> 2885.7143 | H53: =I53/1.05*0.05 -> 144.28571 | I53: 3030 | K53: =J53*I53 -> 0
C60: Золотой ключик | D60: Подарочный набор: Книга + набор персонажей + специальный фонарик для теней + подарочная коробка | E60: 28х25,5х3,5 см | F60: 900 гр. | G60: =I60-H60 -> 2885.7143 | H60: =I60/1.05*0.05 -> 144.28571 | I60: 3030 | K60: =J60*I60 -> 0
C67: Маугли | D67: Подарочный набор: Книга + набор персонажей + специальный фонарик для теней + подарочная коробка | E67: 28х25,5х3,5 см | F67: 900 гр. | G67: =I67-H67 -> 2885.7143 | H67: =I67/1.05*0.05 -> 144.28571 | I67: 3030 | K67: =J67*I67 -> 0
C74: Маленький принц | D74: Подарочный набор: Книга + набор персонажей + специальный фонарик для теней + подарочная коробка | E74: 28х25,5х3,5 см | F74: 900 гр. | G74: =I74-H74 -> 2885.7143 | H74: =I74/1.05*0.05 -> 144.28571 | I74: 3030 | K74: =J74*I74 -> 0
C81: История на Хеллоуин | D81: Подарочный набор: Книга + набор персонажей + специальный фонарик для теней + подарочная коробка | E81: 28х25,5х3,5 см | F81: 900 гр. | G81: =I81-H81 -> 2885.7143 | H81: =I81/1.05*0.05 -> 144.28571 | I81: 3030 | K81: =J81*I81 -> 0
C88: Волшебник Страны Оз | D88: Подарочный набор: Книга + набор персонажей + специальный фонарик для теней + подарочная коробка | E88: 28х25,5х3,5 см | F88: 900 гр. | G88: =I88-H88 -> 2885.7143 | H88: =I88/1.05*0.05 -> 144.28571 | I88: 3030 | K88: =J88*I88 -> 0
... C158: Зимние сказки | D158: Подарочный набор: Книга + набор персонажей + специальный фонарик для теней + подарочная коробка | E158: 28х25,5х5 см | F158: 900 гр. | G158: =I158-H158 -> 2885.7143 | H158: =I158/1.05*0.05 -> 144.28571 | I158: 3030 | K158: =J158*I158 -> 0
J165: =SUM(J11:J164) -> 0 | K165: =IFS(J165>499,L2*0.8,J165>99,L2*0.85,J165>49,L2*0.9,1,L2) -> 0
