Workbook

Sheet items
E1: Количество, поз. | F1: =COUNTIF(G10:G65535,">0") | P1: ИП Москвичев А.Г., ОГРН 306526020000017
E2: Количество, шт. | F2: =SUM($G10:$G65536) | I2: Недопустимо добавление/удаление столбцов, изменение порядка товаров | P2: Телефон | Q2: 8 (499) 703-18-18
E3: Сумма заказа | F3: =SUMPRODUCT(G10:G65536,$M$10:$M$65536) | P3: E-mail | Q3: magicbooks@mail.ru
E4: Ваша экономия | F4: =F3-F5 | N4: Информация о наличии и ценах товаров актуальна на: | P4: 46310
E5: Финальная сумма заказа | F5: =SUMPRODUCT(G$10:G$65536,F$10:F$65536)
F7: =COUNTIF(X7:BB7,">0") | X7: =IF($F$3>discounts!C1,1,0) | Y7: =IF($F$3>discounts!D1,1,0) | Z7: =IF($F$3>discounts!E1,1,0) | AA7: =IF($F$3>discounts!F1,1,0) | AB7: =IF($F$3>discounts!G1,1,0) | AC7: =IF($F$3>discounts!H1,1,0) | AD7: =IF($F$3>discounts!I1,1,0) | AE7: =IF($F$3>discounts!J1,1,0) | ... AG7: =IF($F$3>discounts!L1,1,0)
B9: Новинка | C9: Код | D9: Автор | E9: Название | F9: Ваша цена | G9: Заказ | H9: Производитель | I9: Год выпуска | J9: Штрихкод | K9: Вендормодель | L9: Процент скидки | M9: Цена розничная | N9: Цена оптовая базовая | O9: Ссылка | P9: Рейтинг | Q9: Остатки | R9: Группа скидок | S9: Возрастное ограничение
B10: Книги
B11: Черная магия
C12: 22666 | D12: Амазарак | E12: Настольная книга темной ведьмы | F12: =ROUNDUP(N12-(N12/100*X12),0) | H12: Magic-Kniga | I12: 2014 | J12: 9785904844943 | K12: Книги | L12: =ROUND(100-(F12/(M12/100)),0) | M12: 1100 | N12: 957 | O12: https://magic-kniga.ru/items/22666 | P12: 156 | Q12: Больше 50 | R12: 1 | S12: 18 | V12: =MATCH(R12,discounts!A:A) | W12: =ADDRESS(V12,$F$7+1,,,"discounts") | X12: =ROUND(_xlfn.SINGLE(IF(ISNA(_xlfn.SINGLE(IF($F$7=0,0,INDIRECT(W12)))),0,IF($F$7=0,0,INDIRECT(W12)))),0)
C13: 23666 | D13: Гордеев Сергей Васильевич | E13: Черный гримуар средневекового колдуна | F13: =ROUNDUP(N13-(N13/100*X13),0) | H13: Magic-Kniga | I13: 2015 | J13: 9785904844981 | K13: Книги | L13: =ROUND(100-(F13/(M13/100)),0) | M13: 539 | N13: 469 | O13: https://magic-kniga.ru/items/23666 | P13: 71 | Q13: Много | R13: 1 | S13: 18 | V13: =MATCH(R13,discounts!A:A) | W13: =ADDRESS(V13,$F$7+1,,,"discounts") | X13: =ROUND(_xlfn.SINGLE(IF(ISNA(_xlfn.SINGLE(IF($F$7=0,0,INDIRECT(W13)))),0,IF($F$7=0,0,INDIRECT(W13)))),0)
C14: 4000 | D14: Амазарак | E14: Курс высшей черной магии | F14: =ROUNDUP(N14-(N14/100*X14),0) | H14: Magic-Kniga | I14: 2010 | J14: 9785904844028 | K14: Книги | L14: =ROUND(100-(F14/(M14/100)),0) | M14: 988 | N14: 860 | O14: https://magic-kniga.ru/items/4000 | P14: 497 | Q14: Мало | R14: 1 | V14: =MATCH(R14,discounts!A:A) | W14: =ADDRESS(V14,$F$7+1,,,"discounts") | X14: =ROUND(_xlfn.SINGLE(IF(ISNA(_xlfn.SINGLE(IF($F$7=0,0,INDIRECT(W14)))),0,IF($F$7=0,0,INDIRECT(W14)))),0)
B15: Шаманизм
C16: 22750 | D16: Диксон Олард | E16: Шаманы России | F16: =ROUNDUP(N16-(N16/100*X16),0) | H16: Золотое сечение | I16: 2015 | J16: 9785910782857 | K16: Книги | L16: =ROUND(100-(F16/(M16/100)),0) | M16: 796 | N16: 693 | O16: https://magic-kniga.ru/items/22750 | Q16: Мало | R16: 6 | V16: =MATCH(R16,discounts!A:A) | W16: =ADDRESS(V16,$F$7+1,,,"discounts") | X16: =ROUND(IF(ISNA(IF($F$7=0,0,INDIRECT(W16))),0,IF($F$7=0,0,INDIRECT(W16))),0)
B17: Магия Вуду
C18: 5000 | E18: Магия вуду. Практика ритуалов и заклинаний | F18: =ROUNDUP(N18-(N18/100*X18),0) | H18: Magic-Kniga | I18: 2010 | J18: 9785990925489 | K18: Книги | L18: =ROUND(100-(F18/(M18/100)),0) | M18: 460 | N18: 401 | O18: https://magic-kniga.ru/items/5000 | P18: 423 | Q18: Больше 10 | R18: 1 | S18: 16 | V18: =MATCH(R18,discounts!A:A) | W18: =ADDRESS(V18,$F$7+1,,,"discounts") | X18: =ROUND(IF(ISNA(IF($F$7=0,0,INDIRECT(W18))),0,IF($F$7=0,0,INDIRECT(W18))),0)
B19: Нумерология
C20: 23230 | D20: Арнолд Маргарет | E20: Любовная нумерология. Подходите ли вы друг другу? | F20: =ROUNDUP(N20-(N20/100*X20),0) | H20: Весь | I20: 2014 | J20: 9785957327141 | K20: Книги | L20: =ROUND(100-(F20/(M20/100)),0) | M20: 379 | N20: 330 | O20: https://magic-kniga.ru/items/23230 | Q20: Мало | R20: 3 | V20: =MATCH(R20,discounts!A:A) | W20: =ADDRESS(V20,$F$7+1,,,"discounts") | X20: =ROUND(_xlfn.SINGLE(IF(ISNA(_xlfn.SINGLE(IF($F$7=0,0,INDIRECT(W20)))),0,IF($F$7=0,0,INDIRECT(W20)))),0)
C21: 15688 | D21: Моисеев Геннадий Яковлевич | E21: Нумерология гороскопного анализа брачного союза | F21: =ROUNDUP(N21-(N21/100*X21),0) | H21: Профит-Стайл | I21: 2007 | J21: 9785988570523 | K21: Книги | L21: =ROUND(100-(F21/(M21/100)),0) | M21: 102 | N21: 89 | O21: https://magic-kniga.ru/items/15688 | Q21: Мало | R21: 2 | V21: =MATCH(R21,discounts!A:A) | W21: =ADDRESS(V21,$F$7+1,,,"discounts") | X21: =ROUND(_xlfn.SINGLE(IF(ISNA(_xlfn.SINGLE(IF($F$7=0,0,INDIRECT(W21)))),0,IF($F$7=0,0,INDIRECT(W21)))),0)
C22: 18129 | D22: Моисеев Геннадий Яковлевич | E22: Софонумерология инициального гороскопа | F22: =ROUNDUP(N22-(N22/100*X22),0) | H22: Профит-Стайл | I22: 2006 | J22: 9785988570240 | K22: Книги | L22: =ROUND(100-(F22/(M22/100)),0) | M22: 432 | N22: 376 | O22: https://magic-kniga.ru/items/18129 | Q22: Мало | R22: 5 | V22: =MATCH(R22,discounts!A:A) | W22: =ADDRESS(V22,$F$7+1,,,"discounts") | X22: =ROUND(_xlfn.SINGLE(IF(ISNA(_xlfn.SINGLE(IF($F$7=0,0,INDIRECT(W22)))),0,IF($F$7=0,0,INDIRECT(W22)))),0)
B23: Каббала
C24: 2800 | D24: Папюс | E24: Каббала | F24: =ROUNDUP(N24-(N24/100*X24),0) | H24: Magic-Kniga | I24: 2019 | J24: 9785904844486 | K24: Книги | L24: =ROUND(100-(F24/(M24/100)),0) | M24: 507 | N24: 442 | O24: https://magic-kniga.ru/items/2800 | P24: 326 | Q24: Больше 50 | R24: 1 | V24: =MATCH(R24,discounts!A:A) | W24: =ADDRESS(V24,$F$7+1,,,"discounts") | X24: =ROUND(IF(ISNA(IF($F$7=0,0,INDIRECT(W24))),0,IF($F$7=0,0,INDIRECT(W24))),0)
B25: Магия растений
C26: 11000 | E26: Растительное колдовство. Практическое пособие | F26: =ROUNDUP(N26-(N26/100*X26),0) | H26: Magic-Kniga | I26: 2012 | J26: 9785904844226 | K26: Книги | L26: =ROUND(100-(F26/(M26/100)),0) | M26: 812 | N26: 707 | O26: https://magic-kniga.ru/items/11000 | P26: 81 | Q26: Больше 10 | R26: 1 | V26: =MATCH(R26,discounts!A:A) | W26: =ADDRESS(V26,$F$7+1,,,"discounts") | X26: =ROUND(IF(ISNA(IF($F$7=0,0,INDIRECT(W26))),0,IF($F$7=0,0,INDIRECT(W26))),0)
B27: Сборники заговоров
C28: 20333 | D28: Сахаров И.П. | E28: Русское народное чернокнижие | F28: =ROUNDUP(N28-(N28/100*X28),0) | H28: Magic-Kniga | I28: 2014 | J28: 9785904844738 | K28: Книги | L28: =ROUND(100-(F28/(M28/100)),0) | M28: 469 | N28: 409 | O28: https://magic-kniga.ru/items/20333 | P28: 171 | Q28: Больше 50 | R28: 1 | S28: 16 | V28: =MATCH(R28,discounts!A:A) | W28: =ADDRESS(V28,$F$7+1,,,"discounts") | X28: =ROUND(IF(ISNA(IF($F$7=0,0,INDIRECT(W28))),0,IF($F$7=0,0,INDIRECT(W28))),0)
B29: Домашняя магия
C30: 12159 | D30: Дуган Эллен | E30: Домашнее волшебство. Природная магия для очага и жилища | F30: =ROUNDUP(N30-(N30/100*X30),0) | H30: Весь | I30: 2016 | J30: 9785957318040 | K30: Книги | L30: =ROUND(100-(F30/(M30/100)),0) | M30: 508 | N30: 442 | O30: https://magic-kniga.ru/items/12159 | Q30: Мало | R30: 3 | V30: =MATCH(R30,discounts!A:A) | W30: =ADDRESS(V30,$F$7+1,,,"discounts") | X30: =ROUND(IF(ISNA(IF($F$7=0,0,INDIRECT(W30))),0,IF($F$7=0,0,INDIRECT(W30))),0)
B31: Любовная магия
C32: 19494 | D32: Федосеев А.И. | E32: Погадаем на любовь. Практическое пособие по определению характера и совместимости партнеров | F32: =ROUNDUP(N32-(N32/100*X32),0) | H32: Велигор | I32: 2015 | J32: 9785888753156 | K32: Книги | L32: =ROUND(100-(F32/(M32/100)),0) | M32: 775 | N32: 675 | O32: https://magic-kniga.ru/items/19494 | Q32: Мало | R32: 6 | V32: =MATCH(R32,discounts!A:A) | W32: =ADDRESS(V32,$F$7+1,,,"discounts") | X32: =ROUND(_xlfn.SINGLE(IF(ISNA(_xlfn.SINGLE(IF($F$7=0,0,INDIRECT(W32)))),0,IF($F$7=0,0,INDIRECT(W32)))),0)
C33: 5185 | D33: Амарис Стелла | E33: Любим, верим и побеждаем. Метафизика любви | F33: =ROUNDUP(N33-(N33/100*X33),0) | H33: Золотое сечение | I33: 2009 | J33: 9785910780945 | K33: Книги | L33: =ROUND(100-(F33/(M33/100)),0) | M33: 425 | N33: 370 | O33: https://magic-kniga.ru/items/5185 | Q33: Мало | R33: 6 | V33: =MATCH(R33,discounts!A:A) | W33: =ADDRESS(V33,$F$7+1,,,"discounts") | X33: =ROUND(_xlfn.SINGLE(IF(ISNA(_xlfn.SINGLE(IF($F$7=0,0,INDIRECT(W33)))),0,IF($F$7=0,0,INDIRECT(W33)))),0)
B34: Оккультизм
C35: 2000 | D35: Леви Элифас | E35: Учение и Ритуал | F35: =ROUNDUP(N35-(N35/100*X35),0) | H35: Magic-Kniga | I35: 2010 | J35: 9785904844035 | K35: Книги | L35: =ROUND(100-(F35/(M35/100)),0) | M35: 627 | N35: 546 | O35: https://magic-kniga.ru/items/2000 | P35: 344 | Q35: Больше 50 | R35: 1 | V35: =MATCH(R35,discounts!A:A) | W35: =ADDRESS(V35,$F$7+1,,,"discounts") | X35: =ROUND(IF(ISNA(IF($F$7=0,0,INDIRECT(W35))),0,IF($F$7=0,0,INDIRECT(W35))),0)
C36: 5500 | D36: Агриппа Генрих | E36: Магия Арбателя | F36: =ROUNDUP(N36-(N36/100*X36),0) | H36: Magic-Kniga | I36: 2013 | J36: 9785904844479 | K36: Книги | L36: =ROUND(100-(F36/(M36/100)),0) | M36: 1550 | N36: 1349 | O36: https://magic-kniga.ru/items/5500 | P36: 432 | Q36: Больше 50 | R36: 1 | V36: =MATCH(R36,discounts!A:A) | W36: =ADDRESS(V36,$F$7+1,,,"discounts") | X36: =ROUND(IF(ISNA(IF($F$7=0,0,INDIRECT(W36))),0,IF($F$7=0,0,INDIRECT(W36))),0)
C37: 8888 | D37: Гусев Анатолий Иванович | E37: Оккультная феноменология | F37: =ROUNDUP(N37-(N37/100*X37),0) | H37: Magic-Kniga | I37: 2013 | J37: 9785904844424 | K37: Книги | L37: =ROUND(100-(F37/(M37/100)),0) | M37: 285 | N37: 248 | O37: https://magic-kniga.ru/items/8888 | P37: 54 | Q37: Больше 10 | R37: 1 | V37: =MATCH(R37,discounts!A:A) | W37: =ADDRESS(V37,$F$7+1,,,"discounts") | X37: =ROUND(IF(ISNA(IF($F$7=0,0,INDIRECT(W37))),0,IF($F$7=0,0,INDIRECT(W37))),0)
C38: 18400 | D38: Леви Элифас | E38: Великий Аркан или разоблаченный оккультизм | F38: =ROUNDUP(N38-(N38/100*X38),0) | H38: Magic-Kniga | I38: 2024 | J38: 9785904844882 | K38: Книги | L38: =ROUND(100-(F38/(M38/100)),0) | M38: 453 | N38: 395 | O38: https://magic-kniga.ru/items/18400 | P38: 266 | Q38: Больше 50 | R38: 1 | V38: =MATCH(R38,discounts!A:A) | W38: =ADDRESS(V38,$F$7+1,,,"discounts") | X38: =ROUND(IF(ISNA(IF($F$7=0,0,INDIRECT(W38))),0,IF($F$7=0,0,INDIRECT(W38))),0)
C39: 18967 | D39: Воронин Валерий | E39: Замок Воина. Древняя вотчина русских богов | F39: =ROUNDUP(N39-(N39/100*X39),0) | H39: Амрита-русь | I39: 2015 | J39: 9785000533253 | K39: Книги | L39: =ROUND(100-(F39/(M39/100)),0) | M39: 292 | N39: 255 | O39: https://magic-kniga.ru/items/18967 | Q39: Мало | R39: 2 | V39: =MATCH(R39,discounts!A:A) | W39: =ADDRESS(V39,$F$7+1,,,"discounts") | X39: =ROUND(IF(ISNA(IF($F$7=0,0,INDIRECT(W39))),0,IF($F$7=0,0,INDIRECT(W39))),0)
C40: 19000 | D40: Барретт Фрэнсис | E40: Маг | F40: =ROUNDUP(N40-(N40/100*X40),0) | H40: Magic-Kniga | I40: 2024 | J40: 9785904844639 | K40: Книги | L40: =ROUND(100-(F40/(M40/100)),0) | M40: 1239 | N40: 1078 | O40: https://magic-kniga.ru/items/19000 | P40: 381 | Q40: Больше 10 | R40: 1 | V40: =MATCH(R40,discounts!A:A) | W40: =ADDRESS(V40,$F$7+1,,,"discounts") | X40: =ROUND(IF(ISNA(IF($F$7=0,0,INDIRECT(W40))),0,IF($F$7=0,0,INDIRECT(W40))),0)
C41: 19398 | D41: Итель Кохун | E41: Макгрегор Мазерс. Меч Мудрости | F41: =ROUNDUP(N41-(N41/100*X41),0) | H41: Энигма | I41: 2015 | J41: 9785946982122 | K41: Книги | L41: =ROUND(100-(F41/(M41/100)),0) | M41: 1163 | N41: 1012 | O41: https://magic-kniga.ru/items/19398 | Q41: Мало | R41: 9 | V41: =MATCH(R41,discounts!A:A) | W41: =ADDRESS(V41,$F$7+1,,,"discounts") | X41: =ROUND(IF(ISNA(IF($F$7=0,0,INDIRECT(W41))),0,IF($F$7=0,0,INDIRECT(W41))),0)
C42: 19399 | D42: Филозоф А.Л | E42: Медиумизм-дар или испытание | F42: =ROUNDUP(N42-(N42/100*X42),0) | H42: Амрита-русь | I42: 2015 | J42: 9785000533765 | K42: Книги | L42: =ROUND(100-(F42/(M42/100)),0) | M42: 1163 | N42: 1012 | O42: https://magic-kniga.ru/items/19399 | Q42: Мало | R42: 2 | V42: =MATCH(R42,discounts!A:A) | W42: =ADDRESS(V42,$F$7+1,,,"discounts") | X42: =ROUND(IF(ISNA(IF($F$7=0,0,INDIRECT(W42))),0,IF($F$7=0,0,INDIRECT(W42))),0)
...

Sheet discounts
A1: Группа скидок / Cумма заказа от | B1: Название | C1: 20000 | D1: 30000 | E1: 40000 | F1: 50000 | G1: 60000 | H1: 70000 | I1: 80000 | J1: 90000 | K1: 100000
A2: 1 | C2: 4 | D2: 4 | E2: 8 | F2: 8 | G2: 12 | H2: 12 | I2: 16 | J2: 16 | K2: 20
A3: 2 | C3: 0 | D3: 0 | E3: 4 | F3: 5 | G3: 6 | H3: 6 | I3: 7 | J3: 7 | K3: 8
A4: 3 | C4: 6 | D4: 8 | E4: 10 | F4: 12 | G4: 14 | H4: 15 | I4: 15 | J4: 16 | K4: 17
A5: 4 | C5: 10 | D5: 12 | E5: 14 | F5: 15 | G5: 16 | H5: 18 | I5: 20 | J5: 22 | K5: 24
A6: 5 | C6: 0 | D6: 0 | E6: 1 | F6: 2 | G6: 3 | H6: 4 | I6: 5 | J6: 6 | K6: 7
A7: 6 | C7: 4 | D7: 6 | E7: 8 | F7: 8 | G7: 10 | H7: 10 | I7: 12 | J7: 12 | K7: 15
A8: 7 | C8: 4 | D8: 4 | E8: 6 | F8: 8 | G8: 10 | H8: 13 | I8: 16 | J8: 18 | K8: 20
A9: 8 | C9: 0 | D9: 0 | E9: 2 | F9: 2 | G9: 4 | H9: 4 | I9: 6 | J9: 6 | K9: 8
A10: 9 | C10: 2 | D10: 2 | E10: 4 | F10: 6 | G10: 6 | H10: 8 | I10: 10 | J10: 12 | K10: 14
A11: 10 | C11: 2 | D11: 4 | E11: 6 | F11: 8 | G11: 10 | H11: 12 | I11: 15 | J11: 18 | K11: 22
A12: 11 | C12: 0 | D12: 0 | E12: 2 | F12: 3 | G12: 4 | H12: 5 | I12: 6 | J12: 7 | K12: 8
A13: 12 | C13: 2 | D13: 2 | E13: 4 | F13: 4 | G13: 6 | H13: 6 | I13: 8 | J13: 8 | K13: 10
A14: 13 | C14: 2 | D14: 3 | E14: 4 | F14: 5 | G14: 6 | H14: 8 | I14: 10 | J14: 12 | K14: 15
